BEGIN:VCALENDAR
VERSION:2.0
PRODID:-// - ECPv6.1.3//NONSGML v1.0//EN
CALSCALE:GREGORIAN
METHOD:PUBLISH
X-ORIGINAL-URL:http://nativefamilyresearch.com
X-WR-CALDESC:Events for 
REFRESH-INTERVAL;VALUE=DURATION:PT1H
X-Robots-Tag:noindex
X-PUBLISHED-TTL:PT1H
BEGIN:VTIMEZONE
TZID:UTC
BEGIN:STANDARD
TZOFFSETFROM:+0000
TZOFFSETTO:+0000
TZNAME:UTC
DTSTART:20180101T000000
END:STANDARD
END:VTIMEZONE
BEGIN:VEVENT
DTSTART;VALUE=DATE:20181026
DTEND;VALUE=DATE:20181030
DTSTAMP:20260424T053444
CREATED:20180407T205905Z
LAST-MODIFIED:20180822T093035Z
UID:138-1540512000-1540857599@nativefamilyresearch.com
SUMMARY:2018 Trail of Tears Association National Conference
DESCRIPTION:The Trail of Tears Association (TOTA) National Conference will be held in Decatur\, Alabama. TOTA is a non-profit\, membership organization formed in 1993 to support the creation\, development\, and interpretation of the Trail of Tears National Historic Trail. Designated as a national historic trail by Congress in 1987\, the Trail commemorates the forced removal of the Cherokee people from their homelands in the southeastern United States to Indian Territory (present-day Oklahoma) in 1838 – 1839. In 1993\, the Association entered into a cooperative agreement with the National Park Service (NPS) to promote and engage in the protection and preservation of Trail of Tears National Historic Trail resources; to promote awareness of the Trail’s legacy\, including the effects of the U.S. Government’s Indian Removal Policy on the Cherokees and other tribes (primarily the Chickasaw\, Choctaw\, Muscogee Creek\, and Seminole); and to perpetuate the management and development techniques that are consistent with the National Park Service’s trail plan.
URL:http://nativefamilyresearch.com/event/2018-trail-of-tears-conference/
LOCATION:Decatur\, AL\, United States
END:VEVENT
END:VCALENDAR