BEGIN:VCALENDAR
VERSION:2.0
PRODID:-// - ECPv6.1.3//NONSGML v1.0//EN
CALSCALE:GREGORIAN
METHOD:PUBLISH
X-ORIGINAL-URL:http://nativefamilyresearch.com
X-WR-CALDESC:Events for 
REFRESH-INTERVAL;VALUE=DURATION:PT1H
X-Robots-Tag:noindex
X-PUBLISHED-TTL:PT1H
BEGIN:VTIMEZONE
TZID:America/Chicago
BEGIN:DAYLIGHT
TZOFFSETFROM:-0600
TZOFFSETTO:-0500
TZNAME:CDT
DTSTART:20230312T080000
END:DAYLIGHT
BEGIN:STANDARD
TZOFFSETFROM:-0500
TZOFFSETTO:-0600
TZNAME:CST
DTSTART:20231105T070000
END:STANDARD
END:VTIMEZONE
BEGIN:VEVENT
DTSTART;TZID=America/Chicago:20231016T080000
DTEND;TZID=America/Chicago:20231018T170000
DTSTAMP:20260424T092021
CREATED:20230804T202955Z
LAST-MODIFIED:20230804T202955Z
UID:276-1697443200-1697648400@nativefamilyresearch.com
SUMMARY:26th Annual Trail of Tears Conference & Symposium
DESCRIPTION:When: October 16-18\, 2023\n\n\n\n\nWhere: Cherokee Casino & Hotel in West Siloam Springs\, OK\nConference Room Rate: $99.00 + 6% tax per night (Room Block is not yet open. We will\nupdate on Facebook & the NTOTA website.)
URL:http://nativefamilyresearch.com/event/26th-annual-trail-of-tears-conference-symposium/
END:VEVENT
END:VCALENDAR