BEGIN:VCALENDAR
VERSION:2.0
PRODID:-// - ECPv6.1.3//NONSGML v1.0//EN
CALSCALE:GREGORIAN
METHOD:PUBLISH
X-ORIGINAL-URL:http://nativefamilyresearch.com
X-WR-CALDESC:Events for 
REFRESH-INTERVAL;VALUE=DURATION:PT1H
X-Robots-Tag:noindex
X-PUBLISHED-TTL:PT1H
BEGIN:VTIMEZONE
TZID:UTC
BEGIN:STANDARD
TZOFFSETFROM:+0000
TZOFFSETTO:+0000
TZNAME:UTC
DTSTART:20180101T000000
END:STANDARD
END:VTIMEZONE
BEGIN:VEVENT
DTSTART;TZID=UTC:20180414T083000
DTEND;TZID=UTC:20180414T150000
DTSTAMP:20260425T231126
CREATED:20180407T210753Z
LAST-MODIFIED:20180407T210753Z
UID:142-1523694600-1523718000@nativefamilyresearch.com
SUMMARY:CHC Spring Genealogy Workshop
DESCRIPTION:ATTEND CHEROKEE HERITAGE CENTER’S SPRING GENEALOGY WORKSHOP \nRegistration Form \nJoin the Cherokee Heritage Center on Saturday\, April 14\, at the Sherwin Miller Museum of Jewish Art for the Cherokee Heritage Center’s Spring Genealogy Workshop. This workshop features insightful presentations on Cherokee genealogy\, burial sites of notable Cherokees\, the Cherokee Orphan Asylum’s genealogical records and great door prizes. Enjoy booths from Cherokee Heritage Center and the Talbot Library and Museum. \nAdmission is $60 at the door\, $50 in advance for the public and $40 for Cherokee National Historical Society (CNHS) members. Refreshments and drinks will be provided and lunch will be on your own.
URL:http://nativefamilyresearch.com/event/chc-spring-genealogy-workshop/
LOCATION:Sherwin Miller Museum of Jewish Art\, 2021 E 71st St.\, Tulsa\, OK\, 74136\, United States
CATEGORIES:Workshop
END:VEVENT
END:VCALENDAR